BEGIN:VCALENDAR
VERSION:2.0
PRODID:-//hacksw/handcal//NONSGML v1.0//EN
BEGIN:VEVENT
DTSTART:20260319T180000Z
DTEND:20260319T220000Z
LOCATION:HEC Alumni - Alumni House \n9, Avenue Franklin Delano Roosevelt \n75008 PARIS
ORGANIZER;CN=Pierre-Yves Carpentier - Développement International - International Development:MAILTO:pycarpentier@yahoo.fr
SUMMARY:L’ASEAN, ses forces, ses faiblesses et son avenir, par Hubert Testard
DESCRIPTION:\n L’ASEAN, ses forces, ses faiblesses et son avenir   Jeudi 19 Mars 2026, à 19h00 UTC+1Dans le Grand Salon de la Maison des HECAu 9, avenue du Président Roosevelt 75008 Paris}Cet événement a aussi...
URL:https://www.hecalumni.fr/en/group/developpement-international-international-development/217/calendar/l-asean-ses-forces-ses-faiblesses-et-son-avenir-par-hubert-testard/2026/03/19/13527
BEGIN:VALARM
TRIGGER:-P0DT1H0M0S
ACTION:DISPLAY
END:VALARM
END:VEVENT
END:VCALENDAR