BEGIN:VCALENDAR
VERSION:2.0
PRODID:-//hacksw/handcal//NONSGML v1.0//EN
BEGIN:VEVENT
DTSTART:20260310T180000Z
DTEND:20260310T210000Z
LOCATION:IMPRFCTO Parallel  \n104, Avinguda del Paral·lel \n08015 BARCELONA
ORGANIZER;CN=Yasmine Abdelaziz - HEC Alumni Spain - Barcelona chapter:MAILTO:yasmine.m.abdelaziz@gmail.com
SUMMARY:Afterwork Alumni Grandes Ecoles Barcelona - 10.03
DESCRIPTION:Dear BCN Alumni,\nBook your place and join us for the first BCN Grandes Ecoles event of 2026 next Tuesday!\n📍IMPRFCTO Parallel (Avinguda del Paral·lel, 104)📅 Tuesday 10/03 at 7pmHow? Book your...
URL:https://www.hecalumni.fr/en/group/hec-alumni-spain-barcelona-chapter/201/calendar/afterwork-alumni-grandes-ecoles-barcelona-10-03/2026/03/10/13507
BEGIN:VALARM
TRIGGER:-P0DT1H0M0S
ACTION:DISPLAY
END:VALARM
END:VEVENT
END:VCALENDAR