BEGIN:VCALENDAR
VERSION:2.0
PRODID:-//hacksw/handcal//NONSGML v1.0//EN
BEGIN:VEVENT
DTSTART:20260519T070000Z
DTEND:20260521T150000Z
LOCATION:Paris Expo Porte de Versailles \n1, Place de la Porte de Versailles \n75015 PARIS
ORGANIZER;CN=Isabelle Dion - HUB SANTE - HEALTH HUB:MAILTO:isabellecdion@orange.fr
SUMMARY:SANTEXPO
DESCRIPTION:\nA vos agendas !SANTEXPO, l'écosystème référent de la santé et du médico-social de la Fédération Hospitalière de France,  se tiendra à Paris Expo - Porte de Versailles du mardi 19 au jeudi 21 mai...
URL:https://www.hecalumni.fr/en/group/hub-sante-health-hub/393/calendar/santexpo/2026/05/19/13492
BEGIN:VALARM
TRIGGER:-P0DT1H0M0S
ACTION:DISPLAY
END:VALARM
END:VEVENT
END:VCALENDAR