BEGIN:VCALENDAR
VERSION:2.0
PRODID:-//hacksw/handcal//NONSGML v1.0//EN
BEGIN:VEVENT
DTSTART:20260407T120000Z
DTEND:20260407T150000Z
LOCATION:
ORGANIZER;CN=Isabelle Dion - SANTE - HEALTH:MAILTO:isabellecdion@orange.fr
SUMMARY:DU CRISP-CAS 9 A L'ECONOMIE - DE NOBEL A NOBEL
DESCRIPTION:\nEn accord avec l'Académie Nationale de Médecine, vous êtes conviés à la Séance du mardi 7 avril 2026 qui se tiendra de 14h00 à 17h00 sur le thème DU CRISP-CAS 9 A L'ECONOMIE DE NOBEL A NOBELAu...
URL:https://www.hecalumni.fr/en/group/sante-health/187/calendar/du-crisp-cas-9-a-l-economie-de-nobel-a-nobel/2026/04/07/13489
BEGIN:VALARM
TRIGGER:-P0DT1H0M0S
ACTION:DISPLAY
END:VALARM
END:VEVENT
END:VCALENDAR