BEGIN:VCALENDAR
VERSION:2.0
PRODID:-//hacksw/handcal//NONSGML v1.0//EN
BEGIN:VEVENT
DTSTART:20260918T173000Z
DTEND:20260919T003000Z
LOCATION:Péniche La Baleine Blanche  \n11, Port de la Gare \n75013 PARIS
ORGANIZER;CN=Serge Cometti - HEC Grande Ecole 1986:MAILTO:serge.cometti@yahoo.fr
SUMMARY:SAVE THE DATE : 18 SEPTEMBRE 2026
DESCRIPTION:SAVE THE DATE : 18 SEPTEMBRE 2026Après 40 ans de traversées, retrouvons-nous nombreux à bord de la baleine blanche le 18 septembre 2026 pour un anniversaire géant, chaleureux, amical et endiablé,...
URL:https://www.hecalumni.fr/en/group/hec-grande-ecole-1986/1069/calendar/save-the-date-18-septembre-2026/2026/09/18/13469
BEGIN:VALARM
TRIGGER:-P0DT1H0M0S
ACTION:DISPLAY
END:VALARM
END:VEVENT
END:VCALENDAR