BEGIN:VCALENDAR
VERSION:2.0
PRODID:-//hacksw/handcal//NONSGML v1.0//EN
BEGIN:VEVENT
DTSTART:20260312T173000Z
DTEND:20260312T213000Z
LOCATION:HEC House - 9 Avenue F.D. Roosevelt - Paris 8ème \n9, Avenue Franklin Delano Roosevelt \n75008 PARIS
ORGANIZER;CN=Mona Audi-Montaldier - Hub Digital - Digital Hub:MAILTO:mmontaldier@icloud.com
SUMMARY:Exceptional Event: Retail & Shopping Experience Revolution, from Back Office to Customer Journey
DESCRIPTION:2026:  Retail & Shopping Experience Revolution From Back office to Customer ExperienceOn March 12 , 6:30 pm (CET) , Online and Onsite at HEC house : 9, ave Franklin Roosevelt , ParisAn International...
URL:https://www.hecalumni.fr/en/group/hub-digital-digital-hub/265/calendar/exceptional-event-retail-shopping-experience-revolution-from-back-office-to-customer-journey/2026/03/12/13463
BEGIN:VALARM
TRIGGER:-P0DT1H0M0S
ACTION:DISPLAY
END:VALARM
END:VEVENT
END:VCALENDAR