BEGIN:VCALENDAR
VERSION:2.0
PRODID:-//hacksw/handcal//NONSGML v1.0//EN
BEGIN:VEVENT
DTSTART:20260413T170000Z
DTEND:20260413T200000Z
LOCATION:Brauhaus Früh am Dom \n12-18, Am Hof \n50667 KOLN
ORGANIZER;CN=Arnaud Becuwe - Germany:MAILTO:a.becuwe@web.de
SUMMARY:COLOGNE 13.04: SPONSORED Meetup at Früh am Dom
DESCRIPTION:Dear all,\nI am pleased to invite you to our next HEC networking evening in Cologne.\nFor the 4th year in a row, we are happy to welcome the HEC Executive Education team for a great evening of...
URL:https://www.hecalumni.fr/en/group/germany/141/calendar/cologne-13-04-sponsored-meetup-at-fruh-am-dom/2026/04/13/13449
BEGIN:VALARM
TRIGGER:-P0DT1H0M0S
ACTION:DISPLAY
END:VALARM
END:VEVENT
END:VCALENDAR