BEGIN:VCALENDAR
VERSION:2.0
PRODID:-//hacksw/handcal//NONSGML v1.0//EN
BEGIN:VEVENT
DTSTART:20260607T130000Z
DTEND:20260607T210000Z
LOCATION:Seguin Sound \nParvis de l'Ile Seguin \n92100 Boulogne
ORGANIZER;CN=Xavier Domont - HEC Rock:MAILTO:xl.domont@bbox.fr
SUMMARY:HECFEST 2026
DESCRIPTION:Le Club Rock met à l'affiche les meilleur(e)s artistes de musique actuelle de la communauté HEC, étudiants ou alumni.
URL:https://www.hecalumni.fr/en/group/hec-rock/3013/calendar/hecfest-2026/2026/06/07/13422
BEGIN:VALARM
TRIGGER:-P0DT1H0M0S
ACTION:DISPLAY
END:VALARM
END:VEVENT
END:VCALENDAR