BEGIN:VCALENDAR
VERSION:2.0
PRODID:-//hacksw/handcal//NONSGML v1.0//EN
BEGIN:VEVENT
DTSTART:20260318T170000Z
DTEND:20260318T210000Z
LOCATION:Club HEC Alumni  \nAvenue Franklin Delano Roosevelt \n75008 PARIS
ORGANIZER;CN=Monica Prieto Langard - Technologies Avancées - Advanced technologies:MAILTO:monica.prieto.langard@gmail.com
SUMMARY:Cybersécurité et souveraineté numérique : un enjeu stratégique pour les décideurs
DESCRIPTION:Le Club HEC Technologies Avancées est heureux de vous retrouver pour une table ronde exceptionnelle: \nCybersécurité et souveraineté numérique : un enjeu stratégique pour les décideurs ! À l’heure où ...
URL:https://www.hecalumni.fr/en/group/technologies-avancees-advanced-technologies/367/calendar/-cybersecurite-et-souverainete-numerique-un-enjeu-strategique-pour-les-decideurs/2026/03/18/13417
BEGIN:VALARM
TRIGGER:-P0DT1H0M0S
ACTION:DISPLAY
END:VALARM
END:VEVENT
END:VCALENDAR