BEGIN:VCALENDAR
VERSION:2.0
PRODID:-//hacksw/handcal//NONSGML v1.0//EN
BEGIN:VEVENT
DTSTART:20260218T170000Z
DTEND:20260218T203000Z
LOCATION:Association HEC Alumni \n9 avenue Franklin Delano Roosevelt \n75008 PARIS
ORGANIZER;CN=Maxime Santos - Generation Share:MAILTO:maxime.santos@hecalumni.fr
SUMMARY:La Chine peut-elle éviter la crise ? Avec Thierry Apoteker (H. 78), Président de TAC ECONOMICS
DESCRIPTION:Conférence exceptionnelle le 18 février 2026 à 18h,dans les locaux d'HEC Alumni\nNotre camarade Thierry Apoteker (H. 78), Président de TAC ECONOMICS, traitera sur le thème : La Chine peut-elle éviter ...
URL:https://www.hecalumni.fr/en/group/generation-share/377/calendar/la-chine-peut-elle-eviter-la-crise-avec-thierry-apoteker-h-78-president-de-tac-economics/2026/02/18/13414
BEGIN:VALARM
TRIGGER:-P0DT1H0M0S
ACTION:DISPLAY
END:VALARM
END:VEVENT
END:VCALENDAR