BEGIN:VCALENDAR
VERSION:2.0
PRODID:-//hacksw/handcal//NONSGML v1.0//EN
BEGIN:VEVENT
DTSTART:20260418T080000Z
DTEND:20260418T150000Z
LOCATION:Maison Elsa Triolet-Aragon \nMoulin de Villeneuve - Rue de Vileneuve \n78730 St-Arnoult en Yvelines
ORGANIZER;CN=Jean-Louis Blaisot - Parcs et Jardins - Parks & Gardens:MAILTO:jean.louis.blaisot@free.fr
SUMMARY:JOURNEE DANS LES YVELINES - ST-ARNOULT ET BRETEUIL
DESCRIPTION:Le club HEC Parcs et Jardins vous propose -en lien avec l’APJPOP- une journée dans les Yvelines  autour de la maison d’Elsa Triolet et Louis Aragon, à St Arnoult en Yvelines, d’une part, et du Château...
URL:https://www.hecalumni.fr/en/group/parcs-et-jardins-parks-gardens/2703/calendar/journee-dans-les-yvelines-st-arnoult-et-breteuil/2026/04/18/13409
BEGIN:VALARM
TRIGGER:-P0DT1H0M0S
ACTION:DISPLAY
END:VALARM
END:VEVENT
END:VCALENDAR