BEGIN:VCALENDAR
VERSION:2.0
PRODID:-//hacksw/handcal//NONSGML v1.0//EN
BEGIN:VEVENT
DTSTART:20260217T190000Z
DTEND:20260217T220000Z
LOCATION:Club SKYBOARD \n25, Rue de Ponthieu \n75008 PARIS
ORGANIZER;CN=Pascal Pham - Marketing & Communication:MAILTO:ppham@triumemba.org
SUMMARY:SAVE THE DATE – Afterwork Ligue des Champions, mardi 17 février
DESCRIPTION:Chère membre, cher membre de HEC Paris alumni,Les phases finales de la Ligue des champions sont de retour ! Les Clubs Marketing & Communication et Sport Business de HEC Paris Alumni ont le plaisir de ...
URL:https://www.hecalumni.fr/en/group/marketing-communication/189/calendar/save-the-date-afterwork-ligue-des-champions-mardi-17-fevrier/2026/02/17/13405
BEGIN:VALARM
TRIGGER:-P0DT1H0M0S
ACTION:DISPLAY
END:VALARM
END:VEVENT
END:VCALENDAR