BEGIN:VCALENDAR
VERSION:2.0
PRODID:-//hacksw/handcal//NONSGML v1.0//EN
BEGIN:VEVENT
DTSTART:20260310T180000Z
DTEND:20260310T203000Z
LOCATION:Maison des ESSEC \n11, Avenue de Friedland \n75008 PARIS
ORGANIZER;CN=Amandine Dubessay - Tourisme - Tourism:MAILTO:a.dubessay@gmail.com
SUMMARY:Dans les Coulisses de l'Orient Express
DESCRIPTION:Invitation à la conférence« Dans les coulisses de l’Orient Express : un voyage sur les rails comme dans les mers"\nLe Club HEC Tourisme & Management est heureux de vous convier au prochain évènement...
URL:https://www.hecalumni.fr/en/group/tourisme-tourism/191/calendar/dans-les-coulisses-de-l-orient-express/2026/03/10/13404
BEGIN:VALARM
TRIGGER:-P0DT1H0M0S
ACTION:DISPLAY
END:VALARM
END:VEVENT
END:VCALENDAR