BEGIN:VCALENDAR
VERSION:2.0
PRODID:-//hacksw/handcal//NONSGML v1.0//EN
BEGIN:VEVENT
DTSTART:20260528T070000Z
DTEND:20260528T083000Z
LOCATION:Notre Dame de Paris \nNotre Dame de Paris \n75004 PARIS
ORGANIZER;CN=Christian Rouy - Club HEC Détente:MAILTO:rouy.christian@orange.fr
SUMMARY:Club HEC Détente : Notre Dame de Paris – la résurrection
DESCRIPTION:Notre Dame de Paris – la résurrection (2ème session) Le succès rencontré par la première session et la frustration ressentie par ceux qui n’ont pu s’y inscrire nous amène à organiser une deuxième...
URL:https://www.hecalumni.fr/en/group/club-hec-detente/163/calendar/club-hec-detente-notre-dame-de-paris-la-resurrection/2026/05/28/13397
BEGIN:VALARM
TRIGGER:-P0DT1H0M0S
ACTION:DISPLAY
END:VALARM
END:VEVENT
END:VCALENDAR