BEGIN:VCALENDAR
VERSION:2.0
PRODID:-//hacksw/handcal//NONSGML v1.0//EN
BEGIN:VEVENT
DTSTART:20260325T080000Z
DTEND:20260326T170000Z
LOCATION:Paris Expo-Porte de Versailles \n1 Place de la Porte de Versailles \n75015 PARIS
ORGANIZER;CN=Isabelle Dion - HUB SANTE - HEALTH HUB:MAILTO:isabellecdion@orange.fr
SUMMARY:TECH 4 HEALTH
DESCRIPTION:TECH 4 HEALTH - REJOIGNEZ LE FUTUR DE LA SANTÉ !"Tech 4 Health est l’événement de référence dédié aux technologies numériques au service de l’humain dans le secteur de la santé. Sanitaire,...
URL:https://www.hecalumni.fr/en/group/hub-sante-health-hub/393/calendar/tech-4-health/2026/03/25/13357
BEGIN:VALARM
TRIGGER:-P0DT1H0M0S
ACTION:DISPLAY
END:VALARM
END:VEVENT
END:VCALENDAR