BEGIN:VCALENDAR
VERSION:2.0
PRODID:-//hacksw/handcal//NONSGML v1.0//EN
BEGIN:VEVENT
DTSTART:20260212T113000Z
DTEND:20260212T123000Z
LOCATION:https://www.eventbrite.fr/e/billets-webinar-gef-sur-lia-avec-laura-sibony-autrice-de-fantasia-1981016532777
ORGANIZER;CN=Nesrine Kebache - HEC We&men:MAILTO:kebache.nesrine@gmail.com
SUMMARY:WEBINAR GEF SUR L'IA AVEC LAURA SIBONY, AUTRICE DE FANTASIA
DESCRIPTION:HEC We&men a le plaisir de relayer l'invitation de Grandes Ecoles au FémininWEBINAR GEF avec Laura Sibony, \nconférencière et enseignante, autrice de FantasIA\n  Crédits photo : © JF PAGA - Laura...
URL:https://www.hecalumni.fr/en/group/hec-we-men/287/calendar/webinar-gef-sur-l-ia-avec-laura-sibony-autrice-de-fantasia/2026/02/12/13344
BEGIN:VALARM
TRIGGER:-P0DT1H0M0S
ACTION:DISPLAY
END:VALARM
END:VEVENT
END:VCALENDAR