BEGIN:VCALENDAR
VERSION:2.0
PRODID:-//hacksw/handcal//NONSGML v1.0//EN
BEGIN:VEVENT
DTSTART:20260209T180000Z
DTEND:20260209T203000Z
LOCATION:https://us02web.zoom.us/j/83611243994?pwd=tVWYAf4VQ53CuEQbW8wtOF3PzPJFjd.1  ID de réunion:
ORGANIZER;CN=Olivier Blandin - Experts et Consultants Indépendants - Independants Experts and Consultants:MAILTO:o.blandin@accrma.fr
SUMMARY:Entrepreneur/Indépendant,  tu es un expert et tu ne sais pas vendre ?
DESCRIPTION:Webinar access code 836 1124 3994 Code : 486129...
URL:https://www.hecalumni.fr/en/group/experts-et-consultants-independants-independants-experts-and-consultants/2702/calendar/entrepreneur-independant-tu-es-un-expert-et-tu-ne-sais-pas-vendre/2026/02/09/13328
BEGIN:VALARM
TRIGGER:-P0DT1H0M0S
ACTION:DISPLAY
END:VALARM
END:VEVENT
END:VCALENDAR