BEGIN:VCALENDAR
VERSION:2.0
PRODID:-//hacksw/handcal//NONSGML v1.0//EN
BEGIN:VEVENT
DTSTART:20260130T111500Z
DTEND:20260130T131500Z
LOCATION:Maison Marie \n5, Rue Massena \n06000 NICE
ORGANIZER;CN=Thien Lan Weber - Côte d'Azur:MAILTO:thienlan.weber@gmail.com
SUMMARY:Déjeuner mensuel Vendredi 30 Janvier à Nice
DESCRIPTION:Souhaitons-nous la bonne année lors du déjeuner mensuel le vendredi 30 Janvier!Nous passerons commande à 12h30 pour ceux qui doivent reprendre à 14hRestaurant La Maison de Marie, 5 rue Masséna à...
URL:https://www.hecalumni.fr/en/group/cote-d-azur/53/calendar/dejeuner-mensuel-vendredi-30-janvier-a-nice/2026/01/30/13318
BEGIN:VALARM
TRIGGER:-P0DT1H0M0S
ACTION:DISPLAY
END:VALARM
END:VEVENT
END:VCALENDAR