BEGIN:VCALENDAR
VERSION:2.0
PRODID:-//hacksw/handcal//NONSGML v1.0//EN
BEGIN:VEVENT
DTSTART:20260209T174500Z
DTEND:20260209T210000Z
LOCATION:Moulin Rouge - Entrée au 90 Bd de Clichy \nSalle des machines \n75018 PARIS
ORGANIZER;CN=Maxime Santos - Media et Entertainment:MAILTO:maxime.santos@hecalumni.fr
SUMMARY:Invitation exceptionnelle au Moulin Rouge : Le renouveau des industries du spectacle vivant face aux mutations économiques, technologiques et écologiques.
DESCRIPTION:Les Alumni Média & EntertainmentD’HEC, de l’ESSEC et de l’ESCP Reçoivent  Aurélien Binder,Président de Fimalac EntertainmentGérard Pont,Président des FrancofoliesJean-Victor Clérico,Directeur Général ...
URL:https://www.hecalumni.fr/en/group/media-et-entertainment/203/calendar/invitation-exceptionnelle-au-moulin-rouge-le-renouveau-des-industries-du-spectacle-vivant-face-aux-mutations-economiques-technologiques-et-ecologiques/2026/02/09/13312
BEGIN:VALARM
TRIGGER:-P0DT1H0M0S
ACTION:DISPLAY
END:VALARM
END:VEVENT
END:VCALENDAR