BEGIN:VCALENDAR
VERSION:2.0
PRODID:-//hacksw/handcal//NONSGML v1.0//EN
BEGIN:VEVENT
DTSTART:20260127T113000Z
DTEND:20260127T130000Z
LOCATION:Coupole de l'Institut de France \n23, Quai de Conti \n75006 PARIS
ORGANIZER;CN=Isabelle Dion - HUB SANTE - HEALTH HUB:MAILTO:isabellecdion@orange.fr
SUMMARY:PEUT-ON MODIFIER LE GENOME HUMAIN ?
DESCRIPTION:© Académie des sciences – Mathieu Baumer Les membres d'HEC Santé sont conviés à la conférence qu'organise l'Académie des Sciences mardi 27 janvier 2026, de 12h30 à 14h00, sur le thème PEUT-ON MODIFIER...
URL:https://www.hecalumni.fr/en/group/hub-sante-health-hub/393/calendar/peut-on-modifier-le-genome-humain/2026/01/27/13311
BEGIN:VALARM
TRIGGER:-P0DT1H0M0S
ACTION:DISPLAY
END:VALARM
END:VEVENT
END:VCALENDAR