BEGIN:VCALENDAR
VERSION:2.0
PRODID:-//hacksw/handcal//NONSGML v1.0//EN
BEGIN:VEVENT
DTSTART:20260205T173000Z
DTEND:20260205T213000Z
LOCATION:La Cristallerie \n12, Rue Martel \n75010 PARIS
ORGANIZER;CN=Caroline Mercier - HEC We&men:MAILTO:caroline_mercier@hotmail.fr
SUMMARY:COMPLET - Quels talents et compétences pour une transition énergétique et écologique réussie ?
DESCRIPTION:🌍 La transition énergétique et écologique n’est plus une option : elle redéfinit en profondeur nos économies, nos entreprises et nos trajectoires professionnelles. Mais une question demeure...
URL:https://www.hecalumni.fr/en/group/hec-we-men/287/calendar/complet-quels-talents-et-competences-pour-une-transition-energetique-et-ecologique-reussie/2026/02/05/13294
BEGIN:VALARM
TRIGGER:-P0DT1H0M0S
ACTION:DISPLAY
END:VALARM
END:VEVENT
END:VCALENDAR