BEGIN:VCALENDAR
VERSION:2.0
PRODID:-//hacksw/handcal//NONSGML v1.0//EN
BEGIN:VEVENT
DTSTART:20260310T093000Z
DTEND:20260310T110000Z
LOCATION:Grand Palais \n75008 PARIS
ORGANIZER;CN=Christian Rouy - Club HEC Détente:MAILTO:rouy.christian@orange.fr
SUMMARY:Club HEC Détente : Eva Jospin « Grottesco » – Claire Tabouret « D’un seul souffle »
DESCRIPTION:Eva Jospin, Grottesco · Claire Tabouret, d’un seul souffle               Deux artistes, Eva Jospin et Claire Tabouret sont présentées dans deux galeries du Grand Palais reliées par une même entrée.   ...
URL:https://www.hecalumni.fr/en/group/club-hec-detente/163/calendar/club-hec-detente-eva-jospin-grottesco-claire-tabouret-d-un-seul-souffle/2026/03/10/13285
BEGIN:VALARM
TRIGGER:-P0DT1H0M0S
ACTION:DISPLAY
END:VALARM
END:VEVENT
END:VCALENDAR