BEGIN:VCALENDAR
VERSION:2.0
PRODID:-//hacksw/handcal//NONSGML v1.0//EN
BEGIN:VEVENT
DTSTART:20260326T090000Z
DTEND:20260326T103000Z
LOCATION:Notre Dame de Paris \nNotre Dame de Paris \n75004 PARIS
ORGANIZER;CN=Christian Rouy - Club HEC Détente:MAILTO:rouy.christian@orange.fr
SUMMARY:Club HEC Détente : Notre Dame de Paris – la résurrection
DESCRIPTION:Notre Dame de Paris – la résurrection (première session)                  Après le tragique incendie du 15 avril 2019, nous redécouvrons dans toute sa splendeur ce magnifique édifice, symbole de la...
URL:https://www.hecalumni.fr/en/group/club-hec-detente/163/calendar/club-hec-detente-notre-dame-de-paris-la-resurrection/2026/03/26/13284
BEGIN:VALARM
TRIGGER:-P0DT1H0M0S
ACTION:DISPLAY
END:VALARM
END:VEVENT
END:VCALENDAR