BEGIN:VCALENDAR
VERSION:2.0
PRODID:-//hacksw/handcal//NONSGML v1.0//EN
BEGIN:VEVENT
DTSTART:20260304T073000Z
DTEND:20260304T093000Z
LOCATION:Station F \n5, Parvis Alan Turing \n75013 PARIS
ORGANIZER;CN=Laurent Blondeau - Ile-de-France Ouest:MAILTO:lbuzzedin@gmail.com
SUMMARY:Cafards ou licornes, un choix cornélien ? Lever ou ne pas lever des fonds ?
DESCRIPTION:Le débat décisif pour bâtir une croissance qui vous ressembleDans un écosystème où les cycles économiques se raccourcissent, où les coûts du capital fluctuent et où la quête de rentabilité reprend le ...
URL:https://www.hecalumni.fr/en/group/ile-de-france-ouest/277/calendar/cafards-ou-licornes-un-choix-cornelien-lever-ou-ne-pas-lever-des-fonds/2026/03/04/13281
BEGIN:VALARM
TRIGGER:-P0DT1H0M0S
ACTION:DISPLAY
END:VALARM
END:VEVENT
END:VCALENDAR