BEGIN:VCALENDAR
VERSION:2.0
PRODID:-//hacksw/handcal//NONSGML v1.0//EN
BEGIN:VEVENT
DTSTART:20260217T180000Z
DTEND:20260217T200000Z
LOCATION:Maison des HEC \n9-11, Avenue Franklin Delano Roosevelt \n75008 PARIS
ORGANIZER;CN=Jean-Christophe Long - Stratégie de l'Entreprise - Corporate strategy:MAILTO:jean-christophe.long@wanadoo.fr
SUMMARY:Décider dans l'incertain. Etienne Klein. 17 février 2026
DESCRIPTION:\np.p1 {margin: 0.0px 0.0px 6.8px 0.0px; text-align: justify; line-height: 16.8px; font: 13.0px Arial; color: #000000; background-color: #ffffff} p.p2 {margin: 0.0px 0.0px 0.0px 0.0px; text-align:...
URL:https://www.hecalumni.fr/en/group/strategie-de-l-entreprise-corporate-strategy/365/calendar/decider-dans-l-incertain-etienne-klein-17-fevrier-2026/2026/02/17/13265
BEGIN:VALARM
TRIGGER:-P0DT1H0M0S
ACTION:DISPLAY
END:VALARM
END:VEVENT
END:VCALENDAR