BEGIN:VCALENDAR
VERSION:2.0
PRODID:-//hacksw/handcal//NONSGML v1.0//EN
BEGIN:VEVENT
DTSTART:20260305T163000Z
DTEND:20260307T163000Z
LOCATION:CHU (Hôpital Pasteur) et Centre Universitaire Méditerranéen \n06000 Nice
ORGANIZER;CN=Isabelle Dion - HUB SANTE - HEALTH HUB:MAILTO:isabellecdion@orange.fr
SUMMARY:NEUROPLANETE
DESCRIPTION:A vos agendas !Le Point convie les membres d'HEC Santé à la 11ème édition de NEUROPLANETE, qu'il organise du jeudi 5 au samedi 7 mars 2026 à Nice sur le thèmeDANS LA TETE DES FEMMES ET DES HOMMES...
URL:https://www.hecalumni.fr/en/group/hub-sante-health-hub/393/calendar/neuroplanete/2026/03/05/13262
BEGIN:VALARM
TRIGGER:-P0DT1H0M0S
ACTION:DISPLAY
END:VALARM
END:VEVENT
END:VCALENDAR