BEGIN:VCALENDAR
VERSION:2.0
PRODID:-//hacksw/handcal//NONSGML v1.0//EN
BEGIN:VEVENT
DTSTART:20260218T090000Z
DTEND:20260219T180000Z
LOCATION:CentraleSupélec \n8, Rue Joliot Curie \n91190 GIF-SUR-YVETTE
ORGANIZER;CN=Isabelle Dion - HUB SANTE - HEALTH HUB:MAILTO:isabellecdion@orange.fr
SUMMARY:PARIS-SACLAY SUMMIT - CHOOSE SCIENCE
DESCRIPTION:A vos agendas !Comme l'année dernière, vous êtes conviés au PARIS-SACLAY SUMMIT - CHOOSE SCIENCE, qui se tiendra les 18 et 19 février 2026 à Gif-sur-Yvette.Plus de 80 conférences, plus de 130...
URL:https://www.hecalumni.fr/en/group/hub-sante-health-hub/393/calendar/paris-saclay-summit-choose-science/2026/02/18/13261
BEGIN:VALARM
TRIGGER:-P0DT1H0M0S
ACTION:DISPLAY
END:VALARM
END:VEVENT
END:VCALENDAR