BEGIN:VCALENDAR
VERSION:2.0
PRODID:-//hacksw/handcal//NONSGML v1.0//EN
BEGIN:VEVENT
DTSTART:20260129T180000Z
DTEND:20260129T210000Z
LOCATION:Social Bar \n69, Rue du Faubourg-de-Pierre \n67000 STRASBOURG
ORGANIZER;CN=Marie Delassus - Alsace:MAILTO:delassus.marie@gmail.com
SUMMARY:Stammtisch de janvier
DESCRIPTION:Les stammtisch HEC Alsace reprennent du service, nous nous réjouissons de vous retrouver pour démarrer cette nouvelle année ensemble !\njeudi 29 janvier à partir de 19hAfterwork informel pour se...
URL:https://www.hecalumni.fr/en/group/alsace/41/calendar/stammtisch-de-janvier/2026/01/29/13259
BEGIN:VALARM
TRIGGER:-P0DT1H0M0S
ACTION:DISPLAY
END:VALARM
END:VEVENT
END:VCALENDAR