BEGIN:VCALENDAR
VERSION:2.0
PRODID:-//hacksw/handcal//NONSGML v1.0//EN
BEGIN:VEVENT
DTSTART:20260218T173000Z
DTEND:20260218T193000Z
LOCATION:https://us02web.zoom.us/j/89818444612?pwd=5GByJ5KShTTwrdpjla2RSpZcFGy4Sl.1
ORGANIZER;CN=Laurent Blondeau - Experts et Consultants Indépendants - Independants Experts and Consultants:MAILTO:lbuzzedin@gmail.com
SUMMARY:Conférence avec Delville Management, acteur majeur du management de transition
DESCRIPTION:Webinar access code 898 1844 4612 - Code : 353896...
URL:https://www.hecalumni.fr/en/group/experts-et-consultants-independants-independants-experts-and-consultants/2702/calendar/conference-avec-delville-management-acteur-majeur-du-management-de-transition/2026/02/18/13223
BEGIN:VALARM
TRIGGER:-P0DT1H0M0S
ACTION:DISPLAY
END:VALARM
END:VEVENT
END:VCALENDAR