BEGIN:VCALENDAR
VERSION:2.0
PRODID:-//hacksw/handcal//NONSGML v1.0//EN
BEGIN:VEVENT
DTSTART:20260507T060000Z
DTEND:20260510T170000Z
LOCATION:Ecosse
ORGANIZER;CN=Laurence Rolland - Parcs et Jardins - Parks & Gardens:MAILTO:laurence.rolland@hecalumni.fr
SUMMARY:Voyage en Écosse / Côtes Est & Ouest - Du 7 au 10 Mai
DESCRIPTION:\n🌿 Voyage en Écosse – Côtes Est & OuestDu 7 mai à 10h au 10 mai à 19h\nPensé comme une véritable immersion paysagère, ce parcours de quatre jours vous invite à découvrir la singularité et la richesse...
URL:https://www.hecalumni.fr/en/group/parcs-et-jardins-parks-gardens/2703/calendar/voyage-en-ecosse-cotes-est-ouest-du-7-au-10-mai/2026/05/07/13206
BEGIN:VALARM
TRIGGER:-P0DT1H0M0S
ACTION:DISPLAY
END:VALARM
END:VEVENT
END:VCALENDAR