BEGIN:VCALENDAR
VERSION:2.0
PRODID:-//hacksw/handcal//NONSGML v1.0//EN
BEGIN:VEVENT
DTSTART:20251211T174500Z
DTEND:20251211T210000Z
LOCATION:ANNULÉ - REPORTÉ
ORGANIZER;CN=Jérôme Wagner - Media et Entertainment:MAILTO:jwagner@maje-entertainment.com
SUMMARY:!! ANNULÉ !! Les créateurs prennent le lead !! REPORTÉ !!
DESCRIPTION:Groupe Média - Les créateurs prennent le lead : nouveaux formats, nouveaux business modèlesAvec Gaspard G, Michèle Benzeno, Lyes Boudechiche & Vladimir VinogradCher Alumni, Le Groupe ESCP Alumni...
URL:https://www.hecalumni.fr/en/group/media-et-entertainment/203/calendar/-annule-les-createurs-prennent-le-lead-reporte/2025/12/11/13182
BEGIN:VALARM
TRIGGER:-P0DT1H0M0S
ACTION:DISPLAY
END:VALARM
END:VEVENT
END:VCALENDAR