BEGIN:VCALENDAR
VERSION:2.0
PRODID:-//hacksw/handcal//NONSGML v1.0//EN
BEGIN:VEVENT
DTSTART:20251128T111500Z
DTEND:20251128T133000Z
LOCATION:Le Syracuse \n215 boulevard Eric Tabarly \n06270 Villeneuve Loubet
ORGANIZER;CN=Thien Lan Weber - Côte d'Azur:MAILTO:thienlan.weber@gmail.com
SUMMARY:Déjeuner mensuel Vendredi 28 Novembre à Villeneuve Loubet
DESCRIPTION:☀️ Rejoins-nous pour un moment de convivialité lors du déjeuner mensuel le vendredi 28 NovembreNous passerons commande à 12h30 pour ceux qui doivent reprendre à 14hRestaurant Le Syracuse en rooftop du...
URL:https://www.hecalumni.fr/en/group/cote-d-azur/53/calendar/dejeuner-mensuel-vendredi-28-novembre-a-villeneuve-loubet/2025/11/28/13171
BEGIN:VALARM
TRIGGER:-P0DT1H0M0S
ACTION:DISPLAY
END:VALARM
END:VEVENT
END:VCALENDAR