BEGIN:VCALENDAR
VERSION:2.0
PRODID:-//hacksw/handcal//NONSGML v1.0//EN
BEGIN:VEVENT
DTSTART:20251215T070000Z
DTEND:20260531T190000Z
LOCATION:
ORGANIZER;CN=Christian Rouy - Club HEC Détente:MAILTO:rouy.christian@orange.fr
SUMMARY:Club HEC Détente : Appel à cotisation 2026
DESCRIPTION:Appel à cotisation 2026 Chère camarade, cher camarade, Au cours de l'année 2025, les adhérents du Club HEC Détente ont pu participer à pas moins de 56 évènements. Parmi ces événements : 23...
URL:https://www.hecalumni.fr/en/group/club-hec-detente/163/calendar/club-hec-detente-appel-a-cotisation-2026/2025/12/15/13163
BEGIN:VALARM
TRIGGER:-P0DT1H0M0S
ACTION:DISPLAY
END:VALARM
END:VEVENT
END:VCALENDAR