BEGIN:VCALENDAR
VERSION:2.0
PRODID:-//hacksw/handcal//NONSGML v1.0//EN
BEGIN:VEVENT
DTSTART:20260211T180000Z
DTEND:20260211T213000Z
LOCATION:We Are Club \n73, rue du faubourg saint honoré \n75008 Paris
ORGANIZER;CN=Ghassan Attié - Sport Business:MAILTO:ghassan.attie@gmail.com
SUMMARY:Stratégie et football: regards croisés de trois clubs européens majeurs
DESCRIPTION:Le Club SPORT BUSINESS et l'association HEC Sports Insight reçoivent \nGianluca SantanielloStrategy Director - Olympique de Marseille\nValerio GoriChief Marketing Officer - Atletico Madrid\netMichele ...
URL:https://www.hecalumni.fr/en/group/sport-business/453/calendar/strategie-et-football-regards-croises-de-trois-clubs-europeens-majeurs/2026/02/11/13157
BEGIN:VALARM
TRIGGER:-P0DT1H0M0S
ACTION:DISPLAY
END:VALARM
END:VEVENT
END:VCALENDAR