BEGIN:VCALENDAR
VERSION:2.0
PRODID:-//hacksw/handcal//NONSGML v1.0//EN
BEGIN:VEVENT
DTSTART:20260129T190000Z
DTEND:20260129T210000Z
LOCATION:Salle Cortot \n78, rue Cardinet \n75017 Paris
ORGANIZER;CN=Jean-François Mazelier - Amateurs de Piano - HEC Piano Club:MAILTO:jfmazelier@live.fr
SUMMARY:Recital Piano et Piano Violon Dimitri Malignan et Sarah Bayens
DESCRIPTION:En partenariat avec les Nouveaux Virtuoses Récital Dimitri Malignan, pianoSarah Bayens, violonJeudi 29 janvier 2026 à 20h00A la Salle Cortot78, Rue Cardinet, 75 017, Paris A l’occasion de la sortie de...
URL:https://www.hecalumni.fr/en/group/amateurs-de-piano-hec-piano-club/2573/calendar/recital-piano-et-piano-violon-dimitri-malignan-et-sarah-bayens/2026/01/29/13141
BEGIN:VALARM
TRIGGER:-P0DT1H0M0S
ACTION:DISPLAY
END:VALARM
END:VEVENT
END:VCALENDAR