BEGIN:VCALENDAR
VERSION:2.0
PRODID:-//hacksw/handcal//NONSGML v1.0//EN
BEGIN:VEVENT
DTSTART:20251202T190000Z
DTEND:20251202T220000Z
LOCATION:Poc a Pots - Le Café \nCarrer de Comte Borrell, 33 \n08015 Barcelona
ORGANIZER;CN=Yasmine Abdelaziz - HEC Alumni Spain - Barcelona chapter:MAILTO:yasmine.m.abdelaziz@gmail.com
SUMMARY:Christmas Dinner @ Poc a Pots Le Café - Dec 2nd
DESCRIPTION:Dear Alumni,We are delighted to invite you to the Barcelona French Grandes Ecoles Christmas dinner!We invite you to a Christmas dinner on Tuesday, December 2nd: a night of Christmas magic with alumni ...
URL:https://www.hecalumni.fr/en/group/hec-alumni-spain-barcelona-chapter/201/calendar/christmas-dinner-poc-a-pots-le-cafe-dec-2nd/2025/12/02/13124
BEGIN:VALARM
TRIGGER:-P0DT1H0M0S
ACTION:DISPLAY
END:VALARM
END:VEVENT
END:VCALENDAR