BEGIN:VCALENDAR
VERSION:2.0
PRODID:-//hacksw/handcal//NONSGML v1.0//EN
BEGIN:VEVENT
DTSTART:20251211T173000Z
DTEND:20251211T193000Z
LOCATION:HEC Alumni \n9 Avenue F. Roosvelt \n75008 Paris
ORGANIZER;CN=Arnica Massé - Tourisme - Tourism:MAILTO:arnicam@gmail.com
SUMMARY::earth_europe: places encore disponibles! Quels enjeux pour le tourisme de demain? Rencontre avec Jean-François Rial
DESCRIPTION:Le CTM (Club Tourisme & Management), qui réunit les clubs HEC Tourisme & Management, ESSEC Travel et ESCP Travel, Food & Hospitality,\na le plaisir d’accueillir :Jean-François RialPrésident-Directeur ...
URL:https://www.hecalumni.fr/en/group/tourisme-tourism/191/calendar/-earth-europe-places-encore-disponibles-quels-enjeux-pour-le-tourisme-de-demain-rencontre-avec-jean-francois-rial/2025/12/11/13115
BEGIN:VALARM
TRIGGER:-P0DT1H0M0S
ACTION:DISPLAY
END:VALARM
END:VEVENT
END:VCALENDAR