BEGIN:VCALENDAR
VERSION:2.0
PRODID:-//hacksw/handcal//NONSGML v1.0//EN
BEGIN:VEVENT
DTSTART:20251120T180000Z
DTEND:20251120T193000Z
LOCATION:https://us02web.zoom.us/j/86277419951?pwd=UVofsfebK1Cm6xVYRFaqYj29LOnBsq.1 
ORGANIZER;CN=Marc Kieken - Generation Change:MAILTO:marc.kieken@gmail.com
SUMMARY:Les clés pour réussir votre sortie de poste, surtout lorsqu’elle est subie
DESCRIPTION:Webinar access code 862 7741 9951 - Code : 959994...
URL:https://www.hecalumni.fr/en/group/generation-change/475/calendar/les-cles-pour-reussir-votre-sortie-de-poste-surtout-lorsqu-elle-est-subie/2025/11/20/13058
BEGIN:VALARM
TRIGGER:-P0DT1H0M0S
ACTION:DISPLAY
END:VALARM
END:VEVENT
END:VCALENDAR