BEGIN:VCALENDAR
VERSION:2.0
PRODID:-//hacksw/handcal//NONSGML v1.0//EN
BEGIN:VEVENT
DTSTART:20251016T101500Z
DTEND:20251016T133000Z
LOCATION:Restaurant Arts et Métiers \n9 bis avenue d'Iena \n76116 PARIS
ORGANIZER;CN=Laurence Rolland - HEC Grande Ecole 1967:MAILTO:laurence.rolland@hecalumni.fr
SUMMARY:Déjeuner de promo - 16 octobre 2025
DESCRIPTION:\n📅 Invitation – Déjeuner de la promotion H.67\nChers camarades,Retrouvons-nous avant les fêtes pour un déjeuner convivial et chaleureux 🎄🍷📅 Jeudi 16 octobre, de 12h30 à 15h30\n📍 Salons de l’Hôtel des...
URL:https://www.hecalumni.fr/en/group/hec-grande-ecole-1967/831/calendar/dejeuner-de-promo-16-octobre-2025/2025/10/16/13054
BEGIN:VALARM
TRIGGER:-P0DT1H0M0S
ACTION:DISPLAY
END:VALARM
END:VEVENT
END:VCALENDAR