BEGIN:VCALENDAR
VERSION:2.0
PRODID:-//hacksw/handcal//NONSGML v1.0//EN
BEGIN:VEVENT
DTSTART:20251125T173000Z
DTEND:20251125T203000Z
LOCATION:HEC Alumni \n9 avenue Franklin Roosevelt \n75008 PARIS
ORGANIZER;CN=Jérôme Bouquet - Energie - Energy Industry:MAILTO:jerome-bouquet2@orange.fr
SUMMARY:Intelligence Artificielle, datacenters, énergie et compétitivité : la France à l’heure du défi numérique et environnemental
DESCRIPTION: À l’heure où le numérique et l’intelligence artificielle redéfinissent la compétitivité mondiale, la souveraineté digitale devient un enjeu stratégique majeur pour la France. La capacité à contrôler ...
URL:https://www.hecalumni.fr/en/group/energie-energy-industry/181/calendar/intelligence-artificielle-datacenters-energie-et-competitivite-la-france-a-l-heure-du-defi-numerique-et-environnemental/2025/11/25/13022
BEGIN:VALARM
TRIGGER:-P0DT1H0M0S
ACTION:DISPLAY
END:VALARM
END:VEVENT
END:VCALENDAR