BEGIN:VCALENDAR
VERSION:2.0
PRODID:-//hacksw/handcal//NONSGML v1.0//EN
BEGIN:VEVENT
DTSTART:20251104T170000Z
DTEND:20251104T200000Z
LOCATION:Musée Montmartre \n12 Rue Cortot \n75019 PARIS
ORGANIZER;CN=Sophie Biecheler - Culture:MAILTO:sophie.biecheler@icloud.com
SUMMARY:RENCONTRE & VISITE EXCLUSIVE MUSÉE MONTMARTRE
DESCRIPTION:RENCONTRE & VISITE EXCLUSIVE MUSÉE MONTMARTRELe club CULTURE HEC ALUMNI et le club TOURISME HEC ALUMNIont le plaisir de vous convier àune rencontre culture, tourisme et innovation économique + visite ...
URL:https://www.hecalumni.fr/en/group/culture/209/calendar/rencontre-visite-exclusive-musee-montmartre/2025/11/04/13018
BEGIN:VALARM
TRIGGER:-P0DT1H0M0S
ACTION:DISPLAY
END:VALARM
END:VEVENT
END:VCALENDAR