BEGIN:VCALENDAR
VERSION:2.0
PRODID:-//hacksw/handcal//NONSGML v1.0//EN
BEGIN:VEVENT
DTSTART:20251105T193000Z
DTEND:20251105T230000Z
LOCATION:La Seine Musicale \n92100 Boulogne-Billancourt
ORGANIZER;CN=Sarah Yarmohammadi - Jazz:MAILTO:syarmollard@gmail.com
SUMMARY:Stefano Di Battista célèbre les musiques du cinéma
DESCRIPTION:🎷 Dans le cadre de notre collaboration avec La Seine Musicale (voir ici), le Club HEC Jazz vous propose de retrouver le saxophoniste Stefano Di Battista en quartet, pour un concert exceptionnel...
URL:https://www.hecalumni.fr/en/group/jazz/437/calendar/stefano-di-battista-celebre-les-musiques-du-cinema/2025/11/05/12997
BEGIN:VALARM
TRIGGER:-P0DT1H0M0S
ACTION:DISPLAY
END:VALARM
END:VEVENT
END:VCALENDAR