BEGIN:VCALENDAR
VERSION:2.0
PRODID:-//hacksw/handcal//NONSGML v1.0//EN
BEGIN:VEVENT
DTSTART:20251014T113000Z
DTEND:20251014T130000Z
LOCATION:HEC Montreal, Edifice Helene Desmarais \n501 rue de la Gauchetiere, salle B307 \nH2Z1Z5 Montreal
ORGANIZER;CN=Anne-Valérie Guidollet-Paque - Canada - Québec:MAILTO:guidollet.anne@gmail.com
SUMMARY:Petit-Dejeuner des anciens le 14 octobre
DESCRIPTION:Petit-déjeuner des anciens d’HEC Paris\nMardi 14 Octobre, de 7h30 à 9h du matin.Dans les locaux de nos amis d'HEC... Montréal!\n Édifice Hélène Desmarais, 501 Rue De la Gauchetière, Salle B307 -...
URL:https://www.hecalumni.fr/en/group/canada-quebec/105/calendar/petit-dejeuner-des-anciens-le-14-octobre/2025/10/14/12996
BEGIN:VALARM
TRIGGER:-P0DT1H0M0S
ACTION:DISPLAY
END:VALARM
END:VEVENT
END:VCALENDAR