BEGIN:VCALENDAR
VERSION:2.0
PRODID:-//hacksw/handcal//NONSGML v1.0//EN
BEGIN:VEVENT
DTSTART:20251125T070000Z
DTEND:20251125T093000Z
LOCATION:HEC Alumni \n9 avenue Franklin Roosevelt \n75008 Paris
ORGANIZER;CN=Maxime Santos:MAILTO:maxime.santos@hecalumni.fr
SUMMARY:"La Dernière des Américaines", un roman de Jeremy Ghez pour comprendre l’Amérique et le monde d’aujourd'hui.
DESCRIPTION:"La Dernière des Américaines"Un roman de Jeremy Ghez pour comprendre l’Amérique et le monde d’aujourd'hui.Le 25 novembre 2025, à 8h.\n      Nous avons le plaisir de vous inviter à la séance de...
URL:https://www.hecalumni.fr/en/event/-la-derniere-des-americaines-un-roman-de-jeremy-ghez-pour-comprendre-l-amerique-et-le-monde-d-aujourd-hui/2025/11/25/12954
BEGIN:VALARM
TRIGGER:-P0DT1H0M0S
ACTION:DISPLAY
END:VALARM
END:VEVENT
END:VCALENDAR