BEGIN:VCALENDAR
VERSION:2.0
PRODID:-//hacksw/handcal//NONSGML v1.0//EN
BEGIN:VEVENT
DTSTART:20260430T183000Z
DTEND:20260430T203000Z
LOCATION:HEC UK House \n43 Parker Street \nWC2B 5PS LONDON
ORGANIZER;CN=Marie Normant - United Kingdom - UK:MAILTO:marie.normant@hecalumni.fr
SUMMARY:HEC UK Wine Club: Wine Tasting with Pichon Baron and Quinta de Noval
DESCRIPTION:We are delighted to invite you to our next HEC UK Wine Club event :  Wine Tasting with Chateau Pichon Baron and Quinta de Novalwith Christian Seely, CEO at AXA MillésimesThursday 30th April at...
URL:https://www.hecalumni.fr/en/group/united-kingdom-uk/109/calendar/hec-uk-wine-club-wine-tasting-with-pichon-baron-and-quinta-de-noval/2026/04/30/12950
BEGIN:VALARM
TRIGGER:-P0DT1H0M0S
ACTION:DISPLAY
END:VALARM
END:VEVENT
END:VCALENDAR