BEGIN:VCALENDAR
VERSION:2.0
PRODID:-//hacksw/handcal//NONSGML v1.0//EN
BEGIN:VEVENT
DTSTART:20251014T160000Z
DTEND:20251014T180000Z
LOCATION:
ORGANIZER;CN=Isabelle Dion - SANTE - HEALTH:MAILTO:isabellecdion@orange.fr
SUMMARY:LA SANTE DOPEE PAR L’INTELLIGENCE ARTIFICIELLE ? ENJEUX – PREMIERS BILANS – PERSPECTIVES
DESCRIPTION:\nLe Club HEC Santé et le Club HEC Technologies Avancées ont le plaisir de vous convier à leur manifestation communeLA SANTE DOPEE PAR L’INTELLIGENCE ARTIFICIELLE ?ENJEUX – PREMIERS BILANS –...
URL:https://www.hecalumni.fr/en/group/sante-health/187/calendar/la-sante-dopee-par-l-intelligence-artificielle-enjeux-premiers-bilans-perspectives/2025/10/14/12941
BEGIN:VALARM
TRIGGER:-P0DT1H0M0S
ACTION:DISPLAY
END:VALARM
END:VEVENT
END:VCALENDAR