BEGIN:VCALENDAR
VERSION:2.0
PRODID:-//hacksw/handcal//NONSGML v1.0//EN
BEGIN:VEVENT
DTSTART:20260918T103000Z
DTEND:20260918T120000Z
LOCATION:
ORGANIZER;CN=Marine Homo:MAILTO:marine.homo@hecalumni.fr
SUMMARY:Webinar : « LinkedIn behind the scene » - September 18
DESCRIPTION:Discover LinkedIn like you have never seen it through the eyes of a headhunter  This workshop will give you all the keys to master the tool• What is the use of LinkedIn ? • Discover the invisible part...
URL:https://www.hecalumni.fr/en/event/webinar-linkedin-behind-the-scene-september-18/2026/09/18/12926
BEGIN:VALARM
TRIGGER:-P0DT1H0M0S
ACTION:DISPLAY
END:VALARM
END:VEVENT
END:VCALENDAR