BEGIN:VCALENDAR
VERSION:2.0
PRODID:-//hacksw/handcal//NONSGML v1.0//EN
BEGIN:VEVENT
DTSTART:20250925T163000Z
DTEND:20250925T193000Z
LOCATION:Bomb Squad \n29, Rue Ravenstein \n1000 BRUXELLES
ORGANIZER;CN=Joël Amar - Belgium:MAILTO:joel.amar@sen-so.com
SUMMARY:September Afterwork x Mercure Award Ceremony
DESCRIPTION:Join us at the HEC Alumni Afterwork on Thursday, September 25, from 18:30 to 21:30.Come with your partner and your friends. They are more than welcome!Reconnect after the Summer break, welcome new HEC...
URL:https://www.hecalumni.fr/en/group/belgium/97/calendar/september-afterwork-x-mercure-award-ceremony/2025/09/25/12877
BEGIN:VALARM
TRIGGER:-P0DT1H0M0S
ACTION:DISPLAY
END:VALARM
END:VEVENT
END:VCALENDAR