BEGIN:VCALENDAR
VERSION:2.0
PRODID:-//hacksw/handcal//NONSGML v1.0//EN
BEGIN:VEVENT
DTSTART:20251121T144500Z
DTEND:20251121T161500Z
LOCATION:Petit Palais \nAvenue Winston Churchill \n75008 PARIS
ORGANIZER;CN=Christian Rouy - Club HEC Détente:MAILTO:rouy.christian@orange.fr
SUMMARY:Club HEC Détente : Exposition "PEKKA HALONEN – Un hymne à la Finlande"
DESCRIPTION:PEKKA HALONEN – Un hymne à la Finlande Formé à Paris où il est l’élève de Paul Gauguin, Pekka Halonen est influencé par les courants artistiques tels que le japonisme, le pleinairisme et le...
URL:https://www.hecalumni.fr/en/group/club-hec-detente/163/calendar/club-hec-detente-exposition-pekka-halonen-un-hymne-a-la-finlande/2025/11/21/12849
BEGIN:VALARM
TRIGGER:-P0DT1H0M0S
ACTION:DISPLAY
END:VALARM
END:VEVENT
END:VCALENDAR