BEGIN:VCALENDAR
VERSION:2.0
PRODID:-//hacksw/handcal//NONSGML v1.0//EN
BEGIN:VEVENT
DTSTART:20250930T160000Z
DTEND:20250930T180000Z
LOCATION:Hôtel de l'Industrie \n4, Place Saint-Germain des Prés \n75006 PARIS
ORGANIZER;CN=Isabelle Dion - HUB SANTE - HEALTH HUB:MAILTO:isabellecdion@orange.fr
SUMMARY:LA SOIREE DES HOPITAUX 2025
DESCRIPTION:A vos agendas !Le Point convie les membres d'HEC Santé à LA SOIREE DES HOPITAUX 2025qui se tiendramardi 30 septembre 2025 de 18h00 à 20h00 à l'Hôtel de l'Industrie Paris 6ème.L'Hôpital public face au ...
URL:https://www.hecalumni.fr/en/group/hub-sante-health-hub/393/calendar/la-soiree-des-hopitaux-2025/2025/09/30/12810
BEGIN:VALARM
TRIGGER:-P0DT1H0M0S
ACTION:DISPLAY
END:VALARM
END:VEVENT
END:VCALENDAR